BEGIN:VCALENDAR
VERSION:2.0
PRODID:-//BZG Thüringen - ECPv6.15.17.1//NONSGML v1.0//EN
CALSCALE:GREGORIAN
METHOD:PUBLISH
X-WR-CALNAME:BZG Thüringen
X-ORIGINAL-URL:https://drc-bzg-thueringen.de
X-WR-CALDESC:Veranstaltungen für BZG Thüringen
REFRESH-INTERVAL;VALUE=DURATION:PT1H
X-Robots-Tag:noindex
X-PUBLISHED-TTL:PT1H
BEGIN:VTIMEZONE
TZID:Europe/Berlin
BEGIN:DAYLIGHT
TZOFFSETFROM:+0100
TZOFFSETTO:+0200
TZNAME:CEST
DTSTART:20240331T010000
END:DAYLIGHT
BEGIN:STANDARD
TZOFFSETFROM:+0200
TZOFFSETTO:+0100
TZNAME:CET
DTSTART:20241027T010000
END:STANDARD
BEGIN:DAYLIGHT
TZOFFSETFROM:+0100
TZOFFSETTO:+0200
TZNAME:CEST
DTSTART:20250330T010000
END:DAYLIGHT
BEGIN:STANDARD
TZOFFSETFROM:+0200
TZOFFSETTO:+0100
TZNAME:CET
DTSTART:20251026T010000
END:STANDARD
BEGIN:DAYLIGHT
TZOFFSETFROM:+0100
TZOFFSETTO:+0200
TZNAME:CEST
DTSTART:20260329T010000
END:DAYLIGHT
BEGIN:STANDARD
TZOFFSETFROM:+0200
TZOFFSETTO:+0100
TZNAME:CET
DTSTART:20261025T010000
END:STANDARD
END:VTIMEZONE
BEGIN:VEVENT
DTSTART;TZID=Europe/Berlin:20250907T110000
DTEND;TZID=Europe/Berlin:20250907T140000
DTSTAMP:20260423T224625
CREATED:20250728T061404Z
LAST-MODIFIED:20250728T061404Z
UID:2948-1757242800-1757253600@drc-bzg-thueringen.de
SUMMARY:Sommerfest
DESCRIPTION:Auch in diesem Jahr planen wir für die Mitglieder unserer BZG wieder ein Sommerfest. Die BZG spendiert wieder das Grillgut und Getränke\, über mitgebrachte Salate oder Nachtisch von den Teilnehmern würden wir uns jedoch sehr freuen! Teller und Besteck bringt sich bitte jeder selbst mit. \n\nFormlose Anmeldung bitte bis 29.08.25 bei unserer Schriftführerin Nadine Rudorf unter nadine@sonnentier-fotografie.de
URL:https://drc-bzg-thueringen.de/event/sommerfest-2/
LOCATION:Weingarten
CATEGORIES:Diverses
END:VEVENT
END:VCALENDAR